BEGIN:VCALENDAR
VERSION:2.0
PRODID:-//eventon.com NONSGML v1.0//EN
CALSCALE:GREGORIAN
METHOD:PUBLISH
BEGIN:VEVENT
UID:69e4dca66ee90
DTSTAMP:20260419T134614Z
DTSTART:20260218
DTEND:20260219
LOCATION:Centerfolds San Francisco 391 Broadway
SUMMARY:Wednesdays VIP Dance Special
DESCRIPTION:Every Wednesday!\nhttps://centerfoldssf.com/events/wednesdays-v
 ip-dance-special/var/ri-141.l-L1
URL:https://centerfoldssf.com/events/wednesdays-vip-dance-special/var/ri-141.l-L1
END:VEVENT
END:VCALENDAR