BEGIN:VCALENDAR
VERSION:2.0
PRODID:-//eventon.com NONSGML v1.0//EN
CALSCALE:GREGORIAN
METHOD:PUBLISH
BEGIN:VEVENT
UID:69e74ff9f22e1
DTSTAMP:20260421T102249Z
DTSTART:20260311
DTEND:20260312
LOCATION:Centerfolds San Francisco 391 Broadway
SUMMARY:Wednesdays VIP Dance Special
DESCRIPTION:Every Wednesday!\nhttps://centerfoldssf.com/events/wednesdays-v
 ip-dance-special/var/ri-144.l-L1
URL:https://centerfoldssf.com/events/wednesdays-vip-dance-special/var/ri-144.l-L1
END:VEVENT
END:VCALENDAR