BEGIN:VCALENDAR
VERSION:2.0
PRODID:-//eventon.com NONSGML v1.0//EN
CALSCALE:GREGORIAN
METHOD:PUBLISH
BEGIN:VEVENT
UID:69e5e7d2e5940
DTSTAMP:20260420T084610Z
DTSTART:20260312
DTEND:20260313
LOCATION:Centerfolds San Francisco 391 Broadway
SUMMARY:Bachelor/ette Party
DESCRIPTION:Bachelor/ette Party\nhttps://centerfoldssf.com/events/bachelor-
 ette-party/var/ri-1014.l-L1
URL:https://centerfoldssf.com/events/bachelor-ette-party/var/ri-1014.l-L1
END:VEVENT
END:VCALENDAR