BEGIN:VCALENDAR
VERSION:2.0
PRODID:-//eventon.com NONSGML v1.0//EN
CALSCALE:GREGORIAN
METHOD:PUBLISH
BEGIN:VEVENT
UID:69e5e6955a80a
DTSTAMP:20260420T084053Z
DTSTART:20260426
DTEND:20260427
LOCATION:Centerfolds San Francisco 391 Broadway
SUMMARY:Bachelor/ette Party
DESCRIPTION:Bachelor/ette Party\nhttps://centerfoldssf.com/events/bachelor-
 ette-party/var/ri-1059.l-L1
URL:https://centerfoldssf.com/events/bachelor-ette-party/var/ri-1059.l-L1
END:VEVENT
END:VCALENDAR