BEGIN:VCALENDAR
VERSION:2.0
PRODID:-//eventon.com NONSGML v1.0//EN
CALSCALE:GREGORIAN
METHOD:PUBLISH
BEGIN:VEVENT
UID:69e73b6508cb9
DTSTAMP:20260421T085501Z
DTSTART:20260612
DTEND:20260613
LOCATION:Centerfolds San Francisco 391 Broadway
SUMMARY:Bachelor/ette Party
DESCRIPTION:Bachelor/ette Party\nhttps://centerfoldssf.com/events/bachelor-
 ette-party/var/ri-1106.l-L1
URL:https://centerfoldssf.com/events/bachelor-ette-party/var/ri-1106.l-L1
END:VEVENT
END:VCALENDAR