BEGIN:VCALENDAR
VERSION:2.0
PRODID:-//eventon.com NONSGML v1.0//EN
CALSCALE:GREGORIAN
METHOD:PUBLISH
BEGIN:VEVENT
UID:69e6008d6767d
DTSTAMP:20260420T103141Z
DTSTART:20260702
DTEND:20260703
LOCATION:Centerfolds San Francisco 391 Broadway
SUMMARY:Bachelor/ette Party
DESCRIPTION:Bachelor/ette Party\nhttps://centerfoldssf.com/events/bachelor-
 ette-party/var/ri-1126.l-L1
URL:https://centerfoldssf.com/events/bachelor-ette-party/var/ri-1126.l-L1
END:VEVENT
END:VCALENDAR