BEGIN:VCALENDAR
VERSION:2.0
PRODID:-//eventon.com NONSGML v1.0//EN
CALSCALE:GREGORIAN
METHOD:PUBLISH
BEGIN:VEVENT
UID:69e615cd726e6
DTSTAMP:20260420T120221Z
DTSTART:20260703
DTEND:20260704
LOCATION:Centerfolds San Francisco 391 Broadway
SUMMARY:Bachelor/ette Party
DESCRIPTION:Bachelor/ette Party\nhttps://centerfoldssf.com/events/bachelor-
 ette-party/var/ri-1127.l-L1
URL:https://centerfoldssf.com/events/bachelor-ette-party/var/ri-1127.l-L1
END:VEVENT
END:VCALENDAR