BEGIN:VCALENDAR
VERSION:2.0
PRODID:-//eventon.com NONSGML v1.0//EN
CALSCALE:GREGORIAN
METHOD:PUBLISH
BEGIN:VEVENT
UID:69e5e6570eae1
DTSTAMP:20260420T083951Z
DTSTART:20260303
DTEND:20260304
LOCATION:Centerfolds San Francisco 391 Broadway
SUMMARY:Daily Specials
DESCRIPTION:Daily Specials\nhttps://centerfoldssf.com/events/daily-specials
 /var/ri-1005.l-L1
URL:https://centerfoldssf.com/events/daily-specials/var/ri-1005.l-L1
END:VEVENT
END:VCALENDAR