BEGIN:VCALENDAR
VERSION:2.0
PRODID:-//eventon.com NONSGML v1.0//EN
CALSCALE:GREGORIAN
METHOD:PUBLISH
BEGIN:VEVENT
UID:69e73df89bfe1
DTSTAMP:20260421T090600Z
DTSTART:20260205
DTEND:20260206
LOCATION:Centerfolds San Francisco 391 Broadway
SUMMARY:DETENTION EVERY THURSDAY
DESCRIPTION:DETENTION EVERY THURSDAY\nhttps://centerfoldssf.com/events/dete
 ntion-every-thursday/var/ri-140.l-L1
URL:https://centerfoldssf.com/events/detention-every-thursday/var/ri-140.l-L1
END:VEVENT
END:VCALENDAR