BEGIN:VCALENDAR
VERSION:2.0
PRODID:-//eventon.com NONSGML v1.0//EN
CALSCALE:GREGORIAN
METHOD:PUBLISH
BEGIN:VEVENT
UID:69e5e877527ff
DTSTAMP:20260420T084855Z
DTSTART:20260528
DTEND:20260529
LOCATION:Centerfolds San Francisco 391 Broadway
SUMMARY:DETENTION EVERY THURSDAY
DESCRIPTION:DETENTION EVERY THURSDAY\nhttps://centerfoldssf.com/events/dete
 ntion-every-thursday/var/ri-156.l-L1
URL:https://centerfoldssf.com/events/detention-every-thursday/var/ri-156.l-L1
END:VEVENT
END:VCALENDAR