BEGIN:VCALENDAR
VERSION:2.0
PRODID:-//eventon.com NONSGML v1.0//EN
CALSCALE:GREGORIAN
METHOD:PUBLISH
BEGIN:VEVENT
UID:69e76d0237d75
DTSTAMP:20260421T122642Z
DTSTART:19700101
DTEND:19700102
LOCATION:Centerfolds San Francisco 391 Broadway
SUMMARY:AMATEUR NIGHT EVERY TUESDAY
DESCRIPTION:AMATEUR NIGHT EVERY TUESDAY Contest at 10pm Winner Receives Cas
 h Prize 18+\nhttps://centerfoldssf.com/events/amateur-night-every-tuesday/
URL:https://centerfoldssf.com/events/amateur-night-every-tuesday/
END:VEVENT
END:VCALENDAR